BEGIN:VCALENDAR
VERSION:2.0
PRODID:-//Saint-Jean-de-Luz Boutiques - ECPv5.1.1//NONSGML v1.0//EN
CALSCALE:GREGORIAN
METHOD:PUBLISH
X-WR-CALNAME:Saint-Jean-de-Luz Boutiques
X-ORIGINAL-URL:https://www.saintjeandeluz.boutique
X-WR-CALDESC:Évènements pour Saint-Jean-de-Luz Boutiques
BEGIN:VTIMEZONE
TZID:Europe/Paris
BEGIN:DAYLIGHT
TZOFFSETFROM:+0100
TZOFFSETTO:+0200
TZNAME:CEST
DTSTART:20260329T010000
END:DAYLIGHT
BEGIN:STANDARD
TZOFFSETFROM:+0200
TZOFFSETTO:+0100
TZNAME:CET
DTSTART:20261025T010000
END:STANDARD
END:VTIMEZONE
BEGIN:VEVENT
DTSTART;TZID=Europe/Paris:20260422T170000
DTEND;TZID=Europe/Paris:20260422T180000
DTSTAMP:20260422T160957
CREATED:20260401T041800Z
LAST-MODIFIED:20260401T041801Z
UID:1222546-1776877200-1776880800@www.saintjeandeluz.boutique
SUMMARY:Festi-Contes 2026: Drôles de merveilles
DESCRIPTION:Un spectacle de contes merveilleux\, issus de l’exposition Archéo-Conte et nourris de versions traditionnelles souvent truculentes\, aux rebondissements imprévus ! Vous croyez les connaître ? Mais ces contes pas si classiques que ça\, réenchantés avec humour et sensibilité\, auront de quoi vous surprendre ! \n
URL:https://www.saintjeandeluz.boutique/evenements/festi-contes-2026-droles-de-merveilles/
CATEGORIES:Animation Jeune Public,Festival
ATTACH;FMTTYPE=image/png:https://www.saintjeandeluz.boutique/wp-content/uploads/2026/03/22.png
END:VEVENT
END:VCALENDAR